BEGIN:VCALENDAR
VERSION:2.0
PRODID:gruene-lilienthal.de
METHOD:PUBLISH
BEGIN:VTIMEZONE
TZID:Europe/Berlin
X-LIC-LOCATION:Europe/Berlin
BEGIN:DAYLIGHT
TZOFFSETFROM:+0100
TZOFFSETTO:+0200
TZNAME:CEST
DTSTART:19700329T020000
RRULE:FREQ=YEARLY;INTERVAL=1;BYDAY=-1SU;BYMONTH=3
END:DAYLIGHT
BEGIN:STANDARD
TZOFFSETFROM:+0200
TZOFFSETTO:+0100
TZNAME:CET
DTSTART:19701025T030000
RRULE:FREQ=YEARLY;INTERVAL=1;BYDAY=-1SU;BYMONTH=10
END:STANDARD
END:VTIMEZONE
BEGIN:VEVENT
UID:87b1a994ebfd79c05cf8652ee1843dd3@gruene-lilienthal.de
URL;VALUE=URI:https://gruene-lilienthal.de/termine/save-the-date-afd-in-b
 orgfeld/
LOCATION:vor dem Rewe an der Borgfelder Heerstraße. 
SUMMARY:Save the date: AfD in Borgfeld
DESCRIPTION;ALTREP="data:text/html,%0A%3Cp%3EAm%20Samstag%2C%20den%2017.0
 1.2026%2C%20hat%20die%20AfD%20einen%20Stand%20in%20Borgfeld.%20Wir%C2%A0d
 emokratischen%20Parteien%20bitten%20dringend%20um%20breite%20Unterst%C3%B
 Ctzung%20an%C2%A0unseren%20St%C3%A4nden.%3C%2Fp%3E%0A%0A%0A%0A%3Cp%3E%3C%
 2Fp%3E%0A":Am Samstag\, den 17.01.2026\, hat die AfD einen Stand in Borgf
 eld. Wir demokratischen Parteien bitten dringend um breite Unterstützun
 g an unseren Ständen.
CLASS:PUBLIC
DTSTART;TZID=Europe/Berlin:20260117T090000
DTEND;TZID=Europe/Berlin:20260117T140000
DTSTAMP:20260425T123902
END:VEVENT
END:VCALENDAR